BEGIN:VCALENDAR
VERSION:2.0
PRODID:-//BRACathon 2019 - ECPv4.3.3//NONSGML v1.0//EN
CALSCALE:GREGORIAN
METHOD:PUBLISH
X-WR-CALNAME:BRACathon 2019
X-ORIGINAL-URL:http://bracathon.brac.net
X-WR-CALDESC:Events for BRACathon 2019
BEGIN:VEVENT
DTSTART;TZID=UTC+6:20190722T100000
DTEND;TZID=UTC+6:20190722T170000
DTSTAMP:20211020T023700
CREATED:20160819T184748Z
LAST-MODIFIED:20190619T034727Z
UID:2296-1563789600-1563814800@bracathon.brac.net
SUMMARY:Winner Announcement
DESCRIPTION:Winner announcement from the coding marathon.
URL:http://bracathon.brac.net/event/launching/
LOCATION:75\, Mohakhali\, Dhaka\, Bangladesh
CATEGORIES:2019
ATTACH;FMTTYPE=image/jpeg:http://bracathon.brac.net/wp-content/uploads/2016/08/winner-back.jpg
END:VEVENT
END:VCALENDAR