BEGIN:VCALENDAR
VERSION:2.0
PRODID:-//BRACathon 2019 - ECPv4.3.3//NONSGML v1.0//EN
CALSCALE:GREGORIAN
METHOD:PUBLISH
X-WR-CALNAME:BRACathon 2019
X-ORIGINAL-URL:http://bracathon.brac.net
X-WR-CALDESC:Events for BRACathon 2019
BEGIN:VEVENT
DTSTART;TZID=UTC+6:20190619T110000
DTEND;TZID=UTC+6:20190709T235500
DTSTAMP:20211020T023725
CREATED:20160819T184752Z
LAST-MODIFIED:20190619T033935Z
UID:2338-1560942000-1562716500@bracathon.brac.net
SUMMARY:Registration
DESCRIPTION:Submit your application by this date to get involve into BRACathon 3.0
URL:http://bracathon.brac.net/event/registration-close/
LOCATION:75\, Mohakhali\, Dhaka\, Bangladesh
CATEGORIES:2019
ATTACH;FMTTYPE=image/jpeg:http://bracathon.brac.net/wp-content/uploads/2016/08/registration.jpg
END:VEVENT
END:VCALENDAR